Workbook

Sheet Oversigt
B2: Udfyld års- og månedssaldo
B4: 2021 | C4: =Hjælpefelter!B2 -> TivoliCasino | D4: =Hjælpefelter!C2 -> Rød25 | E4: =Hjælpefelter!D2 -> Casinogo | F4: =Hjælpefelter!E2 -> LeoVegas | G4: =Hjælpefelter!F2 -> Royal | H4: Total
B5: Start | C5: 0 | D5: 0 | E5: 0 | F5: 0 | G5: 0 | H5: =SUM(C5:G5) -> 0
B6: Saldo | C6: 0 | D6: 0 | E6: 0 | F6: 0 | G6: 0 | H6: =SUM(C6:G6) -> 0
B7: Ind/Ud | C7: {=SUMPRODUCT(('Ind-Ud'!$B$2:$B$69=Hjælpefelter!B2)*'Ind-Ud'!$C$2:$C$69)} -> 0 | D7: {=SUMPRODUCT(('Ind-Ud'!$B$2:$B$69=Hjælpefelter!C2)*'Ind-Ud'!$C$2:$C$69)} -> 0 | E7: {=SUMPRODUCT(('Ind-Ud'!$B$2:$B$69=Hjælpefelter!D2)*'Ind-Ud'!$C$2:$C$69)} -> 0 | F7: {=SUMPRODUCT(('Ind-Ud'!$B$2:$B$69=Hjælpefelter!E2)*'Ind-Ud'!$C$2:$C$69)} -> 0 | G7: {=SUMPRODUCT(('Ind-Ud'!$B$2:$B$69=Hjælpefelter!F2)*'Ind-Ud'!$C$2:$C$69)} -> 0 | H7: =SUM(C7:G7) -> 0
B8: Overskud | C8: =C6-C5-C7 -> 0 | D8: =D6-D5-D7 -> 0 | E8: =E6-E5-E7 -> 0 | F8: =F6-F5-F7 -> 0 | G8: =G6-G5-G7 -> 0 | H8: =H6-H5-H7 -> 0
B11: Januar | C11: =$C$4 -> TivoliCasino | D11: =$D$4 -> Rød25 | E11: =$E$4 -> Casinogo | F11: =$F$4 -> LeoVegas | G11: =$G$4 -> Royal | H11: Total
B12: Start | C12: =C5 -> 0 | D12: =D5 -> 0 | E12: =E5 -> 0 | F12: =F5 -> 0 | G12: =G5 -> 0 | H12: =SUM(C12:G12) -> 0
B13: Slut | C13: 0 | D13: 0 | E13: 0 | F13: 0 | G13: 0 | H13: =SUM(C13:G13) -> 0
B14: Ind/Ud | C14: {=SUMPRODUCT((TEXT('Ind-Ud'!$A$2:$A$69,"MMM")=Hjælpefelter!$B1)*('Ind-Ud'!$B$2:$B$69=Hjælpefelter!B2)*'Ind-Ud'!$C$2:$C$69)} -> 0 | D14: {=SUMPRODUCT((TEXT('Ind-Ud'!$A$2:$A$69,"MMM")=Hjælpefelter!$B1)*('Ind-Ud'!$B$2:$B$69=Hjælpefelter!C2)*'Ind-Ud'!$C$2:$C$69)} -> 0 | E14: {=SUMPRODUCT((TEXT('Ind-Ud'!$A$2:$A$69,"MMM")=Hjælpefelter!$B1)*('Ind-Ud'!$B$2:$B$69=Hjælpefelter!D2)*'Ind-Ud'!$C$2:$C$69)} -> 0 | F14: {=SUMPRODUCT((TEXT('Ind-Ud'!$A$2:$A$69,"MMM")=Hjælpefelter!$B1)*('Ind-Ud'!$B$2:$B$69=Hjælpefelter!E2)*'Ind-Ud'!$C$2:$C$69)} -> 0 | G14: {=SUMPRODUCT((TEXT('Ind-Ud'!$A$2:$A$69,"MMM")=Hjælpefelter!$B1)*('Ind-Ud'!$B$2:$B$69=Hjælpefelter!F2)*'Ind-Ud'!$C$2:$C$69)} -> 0 | H14: =SUM(C14:G14) -> 0
B15: Overskud | C15: =C13-C12-C14 -> 0 | D15: =D13-D12-D14 -> 0 | E15: =E13-E12-E14 -> 0 | F15: =F13-F12-F14 -> 0 | G15: =G13-G12-G14 -> 0 | H15: =H13-H12-H14 -> 0
B17: Februar | C17: =$C$4 -> TivoliCasino | D17: =$D$4 -> Rød25 | E17: =$E$4 -> Casinogo | F17: =$F$4 -> LeoVegas | G17: =$G$4 -> Royal | H17: Total
B18: Start | C18: =C13 -> 0 | D18: =D13 -> 0 | E18: =E13 -> 0 | F18: =F13 -> 0 | G18: =G13 -> 0 | H18: =SUM(C18:G18) -> 0
B19: Slut | C19: 0 | D19: 0 | E19: 0 | F19: 0 | G19: 0 | H19: =SUM(C19:G19) -> 0
B20: Ind/Ud | C20: {=SUMPRODUCT((TEXT('Ind-Ud'!$A$2:$A$69,"MMM")=Hjælpefelter!$C1)*('Ind-Ud'!$B$2:$B$69=Hjælpefelter!B2)*'Ind-Ud'!$C$2:$C$69)} -> 0 | D20: {=SUMPRODUCT((TEXT('Ind-Ud'!$A$2:$A$69,"MMM")=Hjælpefelter!$C1)*('Ind-Ud'!$B$2:$B$69=Hjælpefelter!C2)*'Ind-Ud'!$C$2:$C$69)} -> 0 | E20: {=SUMPRODUCT((TEXT('Ind-Ud'!$A$2:$A$69,"MMM")=Hjælpefelter!$C1)*('Ind-Ud'!$B$2:$B$69=Hjælpefelter!D2)*'Ind-Ud'!$C$2:$C$69)} -> 0 | F20: {=SUMPRODUCT((TEXT('Ind-Ud'!$A$2:$A$69,"MMM")=Hjælpefelter!$C1)*('Ind-Ud'!$B$2:$B$69=Hjælpefelter!E2)*'Ind-Ud'!$C$2:$C$69)} -> 0 | G20: {=SUMPRODUCT((TEXT('Ind-Ud'!$A$2:$A$69,"MMM")=Hjælpefelter!$C1)*('Ind-Ud'!$B$2:$B$69=Hjælpefelter!F2)*'Ind-Ud'!$C$2:$C$69)} -> 0 | H20: =SUM(C20:G20) -> 0
B21: Overskud | C21: =C19-C18-C20 -> 0 | D21: =D19-D18-D20 -> 0 | E21: =E19-E18-E20 -> 0 | F21: =F19-F18-F20 -> 0 | G21: =G19-G18-G20 -> 0 | H21: =H19-H18-H20 -> 0
B23: Marts | C23: =$C$4 -> TivoliCasino | D23: =$D$4 -> Rød25 | E23: =$E$4 -> Casinogo | F23: =$F$4 -> LeoVegas | G23: =$G$4 -> Royal | H23: Total
B24: Start | C24: =C19 -> 0 | D24: =D19 -> 0 | E24: =E19 -> 0 | F24: =F19 -> 0 | G24: =G19 -> 0 | H24: =SUM(C24:G24) -> 0
B25: Slut | C25: 0 | D25: 0 | E25: 0 | F25: 0 | G25: 0 | H25: =SUM(C25:G25) -> 0
B26: Ind/Ud | C26: {=SUMPRODUCT((TEXT('Ind-Ud'!$A$2:$A$69,"MMM")=Hjælpefelter!$D1)*('Ind-Ud'!$B$2:$B$69=Hjælpefelter!B2)*'Ind-Ud'!$C$2:$C$69)} -> 0 | D26: {=SUMPRODUCT((TEXT('Ind-Ud'!$A$2:$A$69,"MMM")=Hjælpefelter!$D1)*('Ind-Ud'!$B$2:$B$69=Hjælpefelter!C2)*'Ind-Ud'!$C$2:$C$69)} -> 0 | E26: {=SUMPRODUCT((TEXT('Ind-Ud'!$A$2:$A$69,"MMM")=Hjælpefelter!$D1)*('Ind-Ud'!$B$2:$B$69=Hjælpefelter!D2)*'Ind-Ud'!$C$2:$C$69)} -> 0 | F26: {=SUMPRODUCT((TEXT('Ind-Ud'!$A$2:$A$69,"MMM")=Hjælpefelter!$D1)*('Ind-Ud'!$B$2:$B$69=Hjælpefelter!E2)*'Ind-Ud'!$C$2:$C$69)} -> 0 | G26: {=SUMPRODUCT((TEXT('Ind-Ud'!$A$2:$A$69,"MMM")=Hjælpefelter!$D1)*('Ind-Ud'!$B$2:$B$69=Hjælpefelter!F2)*'Ind-Ud'!$C$2:$C$69)} -> 0 | H26: =SUM(C26:G26) -> 0
B27: Overskud | C27: =C25-C24-C26 -> 0 | D27: =D25-D24-D26 -> 0 | E27: =E25-E24-E26 -> 0 | F27: =F25-F24-F26 -> 0 | G27: =G25-G24-G26 -> 0 | H27: =H25-H24-H26 -> 0
B29: April | C29: =$C$4 -> TivoliCasino | D29: =$D$4 -> Rød25 | E29: =$E$4 -> Casinogo | F29: =$F$4 -> LeoVegas | G29: =$G$4 -> Royal | H29: Total
B30: Start | C30: =C25 -> 0 | D30: =D25 -> 0 | E30: =E25 -> 0 | F30: =F25 -> 0 | G30: =G25 -> 0 | H30: =SUM(C30:G30) -> 0
B31: Slut | C31: 0 | D31: 0 | E31: 0 | F31: 0 | G31: 0 | H31: =SUM(C31:G31) -> 0
B32: Ind/Ud | C32: {=SUMPRODUCT((TEXT('Ind-Ud'!$A$2:$A$69,"MMM")=Hjælpefelter!$E1)*('Ind-Ud'!$B$2:$B$69=Hjælpefelter!B2)*'Ind-Ud'!$C$2:$C$69)} -> 0 | D32: {=SUMPRODUCT((TEXT('Ind-Ud'!$A$2:$A$69,"MMM")=Hjælpefelter!$E1)*('Ind-Ud'!$B$2:$B$69=Hjælpefelter!C2)*'Ind-Ud'!$C$2:$C$69)} -> 0 | E32: {=SUMPRODUCT((TEXT('Ind-Ud'!$A$2:$A$69,"MMM")=Hjælpefelter!$E1)*('Ind-Ud'!$B$2:$B$69=Hjælpefelter!D2)*'Ind-Ud'!$C$2:$C$69)} -> 0 | F32: {=SUMPRODUCT((TEXT('Ind-Ud'!$A$2:$A$69,"MMM")=Hjælpefelter!$E1)*('Ind-Ud'!$B$2:$B$69=Hjælpefelter!E2)*'Ind-Ud'!$C$2:$C$69)} -> 0 | G32: {=SUMPRODUCT((TEXT('Ind-Ud'!$A$2:$A$69,"MMM")=Hjælpefelter!$E1)*('Ind-Ud'!$B$2:$B$69=Hjælpefelter!F2)*'Ind-Ud'!$C$2:$C$69)} -> 0 | H32: =SUM(C32:G32) -> 0
B33: Overskud | C33: =C31-C30-C32 -> 0 | D33: =D31-D30-D32 -> 0 | E33: =E31-E30-E32 -> 0 | F33: =F31-F30-F32 -> 0 | G33: =G31-G30-G32 -> 0 | H33: =H31-H30-H32 -> 0
B35: Maj | C35: =$C$4 -> TivoliCasino | D35: =$D$4 -> Rød25 | E35: =$E$4 -> Casinogo | F35: =$F$4 -> LeoVegas | G35: =$G$4 -> Royal | H35: Total
B36: Start | C36: =C31 -> 0 | D36: =D31 -> 0 | E36: =E31 -> 0 | F36: =F31 -> 0 | G36: =G31 -> 0 | H36: =SUM(C36:G36) -> 0
B37: Slut | C37: 0 | D37: 0 | E37: 0 | F37: 0 | G37: 0 | H37: =SUM(C37:G37) -> 0
B38: Ind/Ud | C38: {=SUMPRODUCT((TEXT('Ind-Ud'!$A$2:$A$69,"MMM")=Hjælpefelter!$F1)*('Ind-Ud'!$B$2:$B$69=Hjælpefelter!B2)*'Ind-Ud'!$C$2:$C$69)} -> 0 | D38: {=SUMPRODUCT((TEXT('Ind-Ud'!$A$2:$A$69,"MMM")=Hjælpefelter!$F1)*('Ind-Ud'!$B$2:$B$69=Hjælpefelter!C2)*'Ind-Ud'!$C$2:$C$69)} -> 0 | E38: {=SUMPRODUCT((TEXT('Ind-Ud'!$A$2:$A$69,"MMM")=Hjælpefelter!$F1)*('Ind-Ud'!$B$2:$B$69=Hjælpefelter!D2)*'Ind-Ud'!$C$2:$C$69)} -> 0 | F38: {=SUMPRODUCT((TEXT('Ind-Ud'!$A$2:$A$69,"MMM")=Hjælpefelter!$F1)*('Ind-Ud'!$B$2:$B$69=Hjælpefelter!E2)*'Ind-Ud'!$C$2:$C$69)} -> 0 | G38: {=SUMPRODUCT((TEXT('Ind-Ud'!$A$2:$A$69,"MMM")=Hjælpefelter!$F1)*('Ind-Ud'!$B$2:$B$69=Hjælpefelter!F2)*'Ind-Ud'!$C$2:$C$69)} -> 0 | H38: =SUM(C38:G38) -> 0
B39: Overskud | C39: =C37-C36-C38 -> 0 | D39: =D37-D36-D38 -> 0 | E39: =E37-E36-E38 -> 0 | F39: =F37-F36-F38 -> 0 | G39: =G37-G36-G38 -> 0 | H39: =H37-H36-H38 -> 0
B41: Juni | C41: =$C$4 -> TivoliCasino | D41: =$D$4 -> Rød25 | E41: =$E$4 -> Casinogo | F41: =$F$4 -> LeoVegas | G41: =$G$4 -> Royal | H41: Total
B42: Start | C42: =C37 -> 0 | D42: =D37 -> 0 | E42: =E37 -> 0 | F42: =F37 -> 0 | G42: =G37 -> 0 | H42: =SUM(C42:G42) -> 0
B43: Slut | C43: 0 | D43: 0 | E43: 0 | F43: 0 | G43: 0 | H43: =SUM(C43:G43) -> 0
B44: Ind/Ud | C44: {=SUMPRODUCT((TEXT('Ind-Ud'!$A$2:$A$69,"MMM")=Hjælpefelter!$G1)*('Ind-Ud'!$B$2:$B$69=Hjælpefelter!B2)*'Ind-Ud'!$C$2:$C$69)} -> 0 | D44: {=SUMPRODUCT((TEXT('Ind-Ud'!$A$2:$A$69,"MMM")=Hjælpefelter!$G1)*('Ind-Ud'!$B$2:$B$69=Hjælpefelter!C2)*'Ind-Ud'!$C$2:$C$69)} -> 0 | E44: {=SUMPRODUCT((TEXT('Ind-Ud'!$A$2:$A$69,"MMM")=Hjælpefelter!$G1)*('Ind-Ud'!$B$2:$B$69=Hjælpefelter!D2)*'Ind-Ud'!$C$2:$C$69)} -> 0 | F44: {=SUMPRODUCT((TEXT('Ind-Ud'!$A$2:$A$69,"MMM")=Hjælpefelter!$G1)*('Ind-Ud'!$B$2:$B$69=Hjælpefelter!E2)*'Ind-Ud'!$C$2:$C$69)} -> 0 | G44: {=SUMPRODUCT((TEXT('Ind-Ud'!$A$2:$A$69,"MMM")=Hjælpefelter!$G1)*('Ind-Ud'!$B$2:$B$69=Hjælpefelter!F2)*'Ind-Ud'!$C$2:$C$69)} -> 0 | H44: =SUM(C44:G44) -> 0
B45: Overskud | C45: =C43-C42-C44 -> 0 | D45: =D43-D42-D44 -> 0 | E45: =E43-E42-E44 -> 0 | F45: =F43-F42-F44 -> 0 | G45: =G43-G42-G44 -> 0 | H45: =H43-H42-H44 -> 0
B47: Juli | C47: =$C$4 -> TivoliCasino | D47: =$D$4 -> Rød25 | E47: =$E$4 -> Casinogo | F47: =$F$4 -> LeoVegas | G47: =$G$4 -> Royal | H47: Total
B48: Start | C48: =C43 -> 0 | D48: =D43 -> 0 | E48: =E43 -> 0 | F48: =F43 -> 0 | G48: =G43 -> 0 | H48: =SUM(C48:G48) -> 0
B49: Slut | C49: 0 | D49: 0 | E49: 0 | F49: 0 | G49: 0 | H49: =SUM(C49:G49) -> 0
B50: Ind/Ud | C50: {=SUMPRODUCT((TEXT('Ind-Ud'!$A$2:$A$69,"MMM")=Hjælpefelter!$H1)*('Ind-Ud'!$B$2:$B$69=Hjælpefelter!B2)*'Ind-Ud'!$C$2:$C$69)} -> 0 | D50: {=SUMPRODUCT((TEXT('Ind-Ud'!$A$2:$A$69,"MMM")=Hjælpefelter!$H1)*('Ind-Ud'!$B$2:$B$69=Hjælpefelter!C2)*'Ind-Ud'!$C$2:$C$69)} -> 0 | E50: {=SUMPRODUCT((TEXT('Ind-Ud'!$A$2:$A$69,"MMM")=Hjælpefelter!$H1)*('Ind-Ud'!$B$2:$B$69=Hjælpefelter!D2)*'Ind-Ud'!$C$2:$C$69)} -> 0 | F50: {=SUMPRODUCT((TEXT('Ind-Ud'!$A$2:$A$69,"MMM")=Hjælpefelter!$H1)*('Ind-Ud'!$B$2:$B$69=Hjælpefelter!E2)*'Ind-Ud'!$C$2:$C$69)} -> 0 | G50: {=SUMPRODUCT((TEXT('Ind-Ud'!$A$2:$A$69,"MMM")=Hjælpefelter!$H1)*('Ind-Ud'!$B$2:$B$69=Hjælpefelter!F2)*'Ind-Ud'!$C$2:$C$69)} -> 0 | H50: =SUM(C50:G50) -> 0
...

Sheet Ind-Ud
A1: Dato | B1: Site | C1: Ind/Ud

Sheet Hjælpefelter
A1: Måneder | B1: Jan | C1: Feb | D1: Mar | E1: Apr | F1: May | G1: Jun | H1: Jul | I1: Aug | J1: Sep | K1: Oct | L1: Nov | M1: Dec
A2: Sites | B2: TivoliCasino | C2: Rød25 | D2: Casinogo | E2: LeoVegas | F2: Royal
